BEGIN:VCALENDAR
VERSION:2.0
PRODID:-//ASEPT Lorraine - ECPv6.11.2//NONSGML v1.0//EN
CALSCALE:GREGORIAN
METHOD:PUBLISH
X-WR-CALNAME:ASEPT Lorraine
X-ORIGINAL-URL:https://www.aseptlorraine.fr
X-WR-CALDESC:Évènements pour ASEPT Lorraine
REFRESH-INTERVAL;VALUE=DURATION:PT1H
X-Robots-Tag:noindex
X-PUBLISHED-TTL:PT1H
BEGIN:VTIMEZONE
TZID:UTC
BEGIN:STANDARD
TZOFFSETFROM:+0000
TZOFFSETTO:+0000
TZNAME:UTC
DTSTART:20230101T000000
END:STANDARD
END:VTIMEZONE
BEGIN:VEVENT
DTSTART;TZID=UTC:20230406T140000
DTEND;TZID=UTC:20230406T160000
DTSTAMP:20260419T152113
CREATED:20230206T153408Z
LAST-MODIFIED:20230206T153709Z
UID:6930-1680789600-1680796800@www.aseptlorraine.fr
SUMMARY:Atelier Bien Vieillir Chez Soi à LIVERDUN (54)
DESCRIPTION:Seniors\, avec les Ateliers « Bien Vieillir chez soi »\, soyez acteurs de votre Habitat !\nChangez quelques habitudes quotidiennes pour une vie plus heureuse et plus\nautonome.\nL’Association de Santé\, d’Education et de Prévention sur les Territoires de Lorraine (ASEPT Lorraine) en partenariat avec le CCAS de Liverdun\, le Conseil Départemental 54 et financé par la conférence des financeurs de Meurthe et Moselle vous propose un cycle de trois ateliers pour vous sensibiliser aux solutions de prévention de la perte d’autonomie.\nCe programme d’éducation à la santé\, développé pour le compte de la MSA Lorraine et ses partenaires\, s’adresse à toutes les personnes de 55 ans et plus.\nUn programme de 3 séances collectives de 8 à 15 personnes\, de 2h00 chacune\, animées par un ergothérapeute et une animatrice en santé environnementale. Il s’agit de prendre soin de soi\, d’acquérir les bons réflexes du quotidien en échangeant dans la convivialité afin de permettre à chacun de vivre à domicile en toute sécurité et le plus longtemps possible.\nEn consacrant quelques heures à votre habitat\, vous gagnerez une retraite plus sereine.\nVous recevrez des conseils simples et clairs pour adopter les bons réflexes chaque jour tout en passant un bon moment.\nIl n’est jamais trop tôt ni trop tard pour s’occuper de son Habitat !\nInscription obligatoire auprès de l’Espace Solidarités au :\n03.83.24.60.60 ou seniors.ccas@ville-liverdun.fr\nCi-dessous le planning des ateliers :  \n  \n\n\n\n\nAteliers \n\nDate\nHeure\n\n\nAtelier 1 \n \nJeudi 6 avril 2023\n\n14h00 – 16h00 \n\n\n\nAtelier 2 \n \nJeudi 13 avril 2023\n\n\nAtelier 3 \n \nMardi 9 mai 2023 \n \n\n\n\n  \n\n\n\n  \n  \n  \n  \n  \n 
URL:https://www.aseptlorraine.fr/event/atelier-bien-vieillir-chez-soi-a-liverdun-54/
LOCATION:Liverdun\, 8 Rue de la Gare\, LIVERUN\, 54460\, France
ATTACH;FMTTYPE=image/jpeg:https://www.aseptlorraine.fr/wp-content/uploads/2023/02/communication-Liverdun_page-0001-1.jpg
ORGANIZER;CN="ASEPT Lorraine":MAILTO:contact@aseptlorraine.fr
END:VEVENT
BEGIN:VEVENT
DTSTART;TZID=UTC:20230405T093000
DTEND;TZID=UTC:20230405T170000
DTSTAMP:20260419T152113
CREATED:20230307T132739Z
LAST-MODIFIED:20230307T132739Z
UID:7024-1680687000-1680714000@www.aseptlorraine.fr
SUMMARY:Forum Seniors et Alors ? 05/04/2023
DESCRIPTION:L’ASEPT Lorraine (Association de Santé d’Éducation et de Prévention sur les Territoires de Lorraine) participera au forum Seniors et Alors le :  Mercredi 5 avril 2023 à Lunéville \n \n\n– Forum ouvert à tous\, présentant les ressources disponibles du territoire pour bien vivre sa/en retraite ; avec la CARSAT\, le service autonomie du Conseil départemental\, le bus de l’autonomie\, AGIRC ARCO\, l’association de consommateurs et usagers …\n– animations : simulateur de conduite\, combinaison du vieillissement\, appartement adapté mobile\, jeux virtuels seniors\, jeux musicaux…\n– conférences animées par BrainUp : ‘Bien dans sa tête à la retraite’ à 10h / ‘Être jeune\, être vieux\, être soi après tout’ à 14h\n\nPour plus de renseignement : Rémi Bourgeois (Les Epis) au 03 83 74 37 70 / Delphine Malgras (CCAS) au 07 84 24 67 14
URL:https://www.aseptlorraine.fr/event/forum-seniors-et-alors-05-04-2023/
LOCATION:Luneville
ATTACH;FMTTYPE=image/jpeg:https://www.aseptlorraine.fr/wp-content/uploads/2023/03/forum-1.jpg
ORGANIZER;CN="ASEPT Lorraine":MAILTO:contact@aseptlorraine.fr
END:VEVENT
BEGIN:VEVENT
DTSTART;TZID=UTC:20230321T140000
DTEND;TZID=UTC:20230321T160000
DTSTAMP:20260419T152113
CREATED:20230223T100533Z
LAST-MODIFIED:20230321T110104Z
UID:6992-1679407200-1679414400@www.aseptlorraine.fr
SUMMARY: « Seniors\, surfez sur votre Autonomie » à BACCARAT (54)
DESCRIPTION: « Seniors\, surfez sur votre Autonomie »\n  \nL’Association de Santé\, d’Education et de Prévention sur les Territoires de Lorraine\, en partenariat avec la Ville de Baccarat et le Conseil Départemental de la Meurthe et Moselle\, vous propose un cycle d’ateliers seniors sur l’utilisation du numérique \nCe programme\, gratuit s’adresse à tous les seniors de plus de 55 ans. \nIl est financé par l’Association LABEL Vie\, la Conférence des Financeurs de Meurthe et Moselle\, la CARSAT Nord Est\, la MSA Lorraine et la CAMIEG. \nEntrer en relation avec les autres\, s’impliquer dans des projets\, transmettre et recevoir des autres\, en développant ainsi ses capacités et sa liberté d’agir au quotidien.\n  \nUn cycle de 6 ateliers de 2h00 chacun\, animés par un formateur en informatique à Baccarat \n \n \nDes tablettes numériques seront mises à disposition de chaque participant. \nUn courrier de confirmation vous sera envoyé \n  \nINSCRIPTION AVANT LE 5 MAI\n\nInscrivez-vous dès maintenant en contactant l’ASEPT Lorraine\, 15 avenue Paul Doumer\, 54500 Vandoeuvre-lès-Nancy  – 07 84 58 88 57 – contact@aseptlorraine.fr   \n\n\n\n\n\n 
URL:https://www.aseptlorraine.fr/event/seniors-surfez-sur-votre-autonomie-a-baccarat-54/
LOCATION:Baccarat\, 54120
ATTACH;FMTTYPE=image/png:https://www.aseptlorraine.fr/wp-content/uploads/2023/02/z-tab.png
ORGANIZER;CN="ASEPT Lorraine":MAILTO:contact@aseptlorraine.fr
END:VEVENT
BEGIN:VEVENT
DTSTART;TZID=UTC:20230308T100000
DTEND;TZID=UTC:20230308T113000
DTSTAMP:20260419T152113
CREATED:20230308T085255Z
LAST-MODIFIED:20230308T085752Z
UID:7023-1678269600-1678275000@www.aseptlorraine.fr
SUMMARY:Réunion d’information « PEPS EUREKA » à Longwy
DESCRIPTION:Seniors\, avec PEPS Eurêka\, votre mémoire est en pleine forme !\n  \nPour votre mémoire\, n’oubliez pas de prendre soin de vous. \n  \nL’Association de Santé\, d’Education et de Prévention sur les Territoires de Lorraine (ASEPT Lorraine) propose un cycle de dix ateliers pour vous aider à comprendre comment fonctionne votre mémoire et la faire travailler. \n Ce programme d’éducation à la santé\, développé en partenariat avec l’OHS Lorraine\, l’association des utilisateurs du Centre Social de Longwy (L’ADUCS)\, le Centre Social Blanche Haye et le Conseil Départemental de Meurthe et Moselle. \nLes ateliers sont financés par la Conférence des Financeurs 54 et les Caisses de Retraite\, s’adresse à toutes les personnes de 60 ans et plus. \nUn programme de 10 séances collectives de 10 à 15 personnes\, d’environ 2h30 qui permet de prendre conscience que de nombreux facteurs influencent le fonctionnement de notre cerveau. \n  \nEn consacrant quelques heures à votre bien être\, vous gagnerez une retraite plus sereine.\nVous recevrez des conseils simples et clairs pour adopter les bons réflexes chaque jour tout en passant un bon moment.\n\nUne réunion d’information gratuite et ouverte à tous\, est proposée :\nLe Lundi 20 mars 2023 à 10h00\nAu Centre Social Blanche Haye\, Grande salle\, 16 Avenue André Malreaux\n  \nIl n’est jamais trop tôt ni trop tard pour s’occuper de soi !\n  \n 
URL:https://www.aseptlorraine.fr/event/reunion-dinformation-peps-eureka-a-longwy/
LOCATION:LONGWY\, 16 Avenue André Malraux\, Longwy\, 54400\, France
ATTACH;FMTTYPE=image/png:https://www.aseptlorraine.fr/wp-content/uploads/2023/03/affiche-peps-long.png
ORGANIZER;CN="ASEPT Lorraine":MAILTO:contact@aseptlorraine.fr
END:VEVENT
END:VCALENDAR