BEGIN:VCALENDAR
VERSION:2.0
PRODID:-//ASEPT Lorraine - ECPv6.11.2//NONSGML v1.0//EN
CALSCALE:GREGORIAN
METHOD:PUBLISH
X-ORIGINAL-URL:https://www.aseptlorraine.fr
X-WR-CALDESC:Évènements pour ASEPT Lorraine
REFRESH-INTERVAL;VALUE=DURATION:PT1H
X-Robots-Tag:noindex
X-PUBLISHED-TTL:PT1H
BEGIN:VTIMEZONE
TZID:UTC
BEGIN:STANDARD
TZOFFSETFROM:+0000
TZOFFSETTO:+0000
TZNAME:UTC
DTSTART:20220101T000000
END:STANDARD
END:VTIMEZONE
BEGIN:VEVENT
DTSTART;TZID=UTC:20220920T143000
DTEND;TZID=UTC:20220920T163000
DTSTAMP:20260419T135811
CREATED:20220719T121740Z
LAST-MODIFIED:20220719T121740Z
UID:6626-1663684200-1663691400@www.aseptlorraine.fr
SUMMARY:Réunion d'information "Bien dans sa tête à la Retraite" à St Etienne les Remiremont
DESCRIPTION:Séniors\, soyez bien dans votre tête à la retraite !\n  \nL’Association de Santé\, d’Education et de Prévention sur les Territoires de Lorraine (ASEPT Lorraine) en partenariat avec le CCAS de Saint Etienne les Remiremont\, le Contrat Local de Santé du Pays de Remiremont\, le Conseil Départemental des Vosges et la Fédération ADMR Vosges vous propose un cycle d’ateliers pour vous aider à vous sentir bien à la retraite. \nCe programme d’éducation à la santé\, financé par les Caisses de Retraite (CARSAT Nord Est\, MSA Lorraine et CAMIEG) et la Conférence des Financeurs des Vosges\, s’adresse à toutes les personnes retraitées quel que soit leur régime de retraite \n  \nUne Réunion d’information\, gratuite et ouverte à tous\, est proposée le  \n  \nMardi 20 Septembre 2022 à 14h30 \nSalle des Mariages\, Hôtel de Ville\nPlace de l’Hôtel de Ville\n88200 SAINT ETIENNE LES REMIREMONT\n  \n  \nA cette occasion\, l’ASEPT Lorraine développera les questions suivantes : \n\nLe corps et l’avancée en âge – \nBien dans son corps\, bien das sa tête\nLes activités favorisants un vieillissement réussi\nLe cycle de 5 ateliers « Bien dans sa tête à la retraite » organisé à St Etienne les Remiremont\n\n  \nNous vous attendons nombreux. Faites-le savoir autour de vous !\n  \nPour plus de renseignements\, contactez l’ASEPT Lorraine: \n09.74.19.16.77 – contact@aseptlorraine.fr
URL:https://www.aseptlorraine.fr/event/reunion-dinformation-bien-dans-sa-tete-a-la-retraite-a-st-etienne-les-remiremont/
LOCATION:Salle des Mariages\, Hôtel de Ville  Place de l’Hôtel de Ville  88200 SAINT ETIENNE LES REMIREMONT
ATTACH;FMTTYPE=image/jpeg:https://www.aseptlorraine.fr/wp-content/uploads/2022/07/Capture-2.jpg
ORGANIZER;CN="ASEPT Lorraine":MAILTO:contact@aseptlorraine.fr
END:VEVENT
BEGIN:VEVENT
DTSTART;TZID=UTC:20220914T143000
DTEND;TZID=UTC:20220914T163000
DTSTAMP:20260419T135811
CREATED:20220718T184844Z
LAST-MODIFIED:20230206T153943Z
UID:6622-1663165800-1663173000@www.aseptlorraine.fr
SUMMARY:Réunion d'information ateliers PEPS EUREKA (mémoire) à Lunéville (54)
DESCRIPTION:Seniors\, avec PEPS Eurêka\, votre mémoire est en pleine forme !\n\nPour votre mémoire\, n’oubliez pas de prendre soin de vous. \nL’Association de Santé\, d’Education et de Prévention sur les Territoires de Lorraine (ASEPT Lorraine) propose un cycle de dix ateliers pour vous aider à comprendre comment fonctionne votre mémoire et la faire travailler. \nCe programme d’éducation à la santé\, développé en partenariat avec la Commune de Liffol le Grand\, le Conseil Départemental des Vosges\, l’ADMR des Vosges et l’Association de Liffol le Grand\, s’adresse à toutes les personnes de 55 ans et plus. \nUn programme de 10 séances collectives de 10 à 15 personnes\, d’environ 2h30 qui permet de prendre conscience que de nombreux facteurs influencent le fonctionnement de notre cerveau. \nAfin de vous présenter au mieux cette action\, une réunion d’information\, gratuite et ouverte à tous est proposée :  \nLe Mercredi 14 septembre 2022 à 14h00\nA la salle des fêtes\, 88350 LIFFOL LE GRAND\n  \nCette action est financée par la Conférence des Financeurs des Vosges\, la CARSAT Nord Est\, la CAMIEG et la MSA Lorraine.\n  \nEn consacrant quelques heures à votre santé\, vous gagnerez une retraite plus sereine. Vous recevrez des conseils simples et clairs pour adopter les bons réflexes chaque jour tout en passant un bon moment. Il s’agira pour vous de préserver votre capital santé et votre mémoire dans une ambiance conviviale. \n  \n  \nContact ASEPT Lorraine : \nau 09.74.19.16.77 ou par mail : contact@aseptlorraine.fr \nSite internet : www.aseptlorraine.fr \n 
URL:https://www.aseptlorraine.fr/event/6622/
LOCATION:A la salle des fêtes\, 88350 LIFFOL LE GRAND
ATTACH;FMTTYPE=image/jpeg:https://www.aseptlorraine.fr/wp-content/uploads/2022/07/Capture-1.jpg
ORGANIZER;CN="ASEPT Lorraine":MAILTO:contact@aseptlorraine.fr
END:VEVENT
BEGIN:VEVENT
DTSTART;TZID=UTC:20220623T080000
DTEND;TZID=UTC:20220623T170000
DTSTAMP:20260419T135811
CREATED:20220623T141828Z
LAST-MODIFIED:20220623T141828Z
UID:6565-1655971200-1656003600@www.aseptlorraine.fr
SUMMARY:Réunion d'information "Bien Vieillir chez Soi" à VIC SUR SEILLE
DESCRIPTION:Seniors\, avec les Ateliers « Bien Vieillir chez soi »\, soyez acteurs de votre Habitat ! \nChangez quelques habitudes quotidiennes pour une vie plus heureuse et plus autonome. \n  \nL’Association de Santé\, d’Education et de Prévention sur les Territoires de Lorraine (ASEPT Lorraine) en partenariat avec la Commune de Vic sur Seille et la Communauté de Communes du Saulnois\, et financé par la Conférence des Financeurs de Moselle\, LABEL Vie et les Caisses de Retraite vous propose un cycle de trois ateliers pour vous sensibiliser aux solutions de prévention de la perte d’autonomie. \n  \nCe programme d’éducation à la santé\, développé pour le compte de la MSA Lorraine et ses partenaires\, s’adresse à toutes les personnes de 55 ans et plus. \nUn programme de 3 séances collectives de 8 à 15 personnes\, de 2h00 chacune\, animées par un ergothérapeute et une animatrice en santé environnementale. \nIl s’agit de prendre soin de soi\, d’acquérir les bons réflexes du quotidien en échangeant dans la convivialité afin de permettre à chacun de vivre à domicile en toute sécurité et le plus longtemps possible. \nEn consacrant quelques heures à votre habitat\, vous gagnerez une retraite plus sereine. Vous recevrez des conseils simples et clairs pour adopter les bons réflexes chaque jour tout en passant un bon moment. \n  \nUne réunion d’information gratuite et ouverte à tous\, est proposée : \n  \nLe Lundi 17 ou le Mardi 18 octobre 2022 à 14h30\nSalle du Tribunal\,\nMairie\, 22 Place du Palais\n576302 VIC SUR SEILLE\n  \nIl n’est jamais trop tôt ni trop tard pour s’occuper de son Habitat !
URL:https://www.aseptlorraine.fr/event/reunion-dinformation-bien-vieillir-chez-soi-a-vic-sur-seille/
LOCATION:Salle du Tribunal\, Mairie\, 22 Place du Palais\, 57630 VIC SUR SEILLE
ORGANIZER;CN="ASEPT Lorraine":MAILTO:contact@aseptlorraine.fr
END:VEVENT
END:VCALENDAR