BEGIN:VCALENDAR
VERSION:2.0
PRODID:-//ASEPT Lorraine - ECPv6.11.2//NONSGML v1.0//EN
CALSCALE:GREGORIAN
METHOD:PUBLISH
X-ORIGINAL-URL:https://www.aseptlorraine.fr
X-WR-CALDESC:Évènements pour ASEPT Lorraine
REFRESH-INTERVAL;VALUE=DURATION:PT1H
X-Robots-Tag:noindex
X-PUBLISHED-TTL:PT1H
BEGIN:VTIMEZONE
TZID:UTC
BEGIN:STANDARD
TZOFFSETFROM:+0000
TZOFFSETTO:+0000
TZNAME:UTC
DTSTART:20220101T000000
END:STANDARD
END:VTIMEZONE
BEGIN:VEVENT
DTSTART;TZID=UTC:20221006T143000
DTEND;TZID=UTC:20221006T163000
DTSTAMP:20260422T120039
CREATED:20220620T082641Z
LAST-MODIFIED:20220620T082641Z
UID:6508-1665066600-1665073800@www.aseptlorraine.fr
SUMMARY:Ateliers Numérique à AZERAILLES (54)
DESCRIPTION:L’Association de Santé\, d’Education et de Prévention sur les Territoires de Lorraine\, en partenariat avec Familles Rurales et le Conseil Départemental de la Meurthe et Moselle\, vous propose un cycle d’ateliers seniors sur l’utilisation du numérique \n  \nCe programme\, gratuit s’adresse à tous les seniors de plus de 55 ans. \nIl est financé par l’Association LABEL Vie\, la Conférence des Financeurs de Meurthe et Moselle\, LABEL Vie\, la MSA Lorraine et la CAMIEG. \n  \nEntrer en relation avec les autres\, s’impliquer dans des projets\, transmettre et recevoir des autres\, en développant ainsi ses capacités et sa liberté d’agir au quotidien. \nUn cycle de 6 ateliers de 2h00 chacun\, animés par un formateur en informatique à AZERAILLES \n\n \nAtelier 1 – Découverte et premiers apprentissages – Jeudi 6 octobre 2022 à 14h30\nAtelier 2 – Internet – Lundi 10 octobre 2022 à 14h30\nAtelier 3 – Rester connecté avec sa famille et ses amis – Jeudi 2 octobre 2022 à 14h30\nAtelier 4 – Mes loisirs – Jeudi 10 novembre 2022 à 14h30\nAtelier 5 – Mes démarches administratives – Jeudi 17 novembre 2022 à 14h30\nAtelier 6 – Ma santé – Jeudi 24 novembre 2022 à 14h30\n\n  \n  \nSUR INSCRIPTIONS OBLIGATOIRES AUPRES DE l’ASEPT Lorraine\nDATE LIMITE : 22 septembre 2022\n\nDes tablettes numériques seront mises à disposition de chaque participant.\nUn courrier de confirmation vous sera envoyé\n7 places encore disponibles
URL:https://www.aseptlorraine.fr/event/ateliers-numerique-a-azerailles-54/
LOCATION:Salle des fêtes\, Place Richez Close 54122 AZERAILLES
ATTACH;FMTTYPE=image/jpeg:https://www.aseptlorraine.fr/wp-content/uploads/2022/06/1-1.jpg
ORGANIZER;CN="ASEPT Lorraine":MAILTO:contact@aseptlorraine.fr
END:VEVENT
BEGIN:VEVENT
DTSTART;TZID=UTC:20221006T143000
DTEND;TZID=UTC:20221006T163000
DTSTAMP:20260422T120039
CREATED:20220819T132731Z
LAST-MODIFIED:20220819T132731Z
UID:6648-1665066600-1665073800@www.aseptlorraine.fr
SUMMARY:Ateliers Nutrition Santé Seniors à Dabo
DESCRIPTION:Bien se nourrir pour rester en forme !\nSavez-vous que vos habitudes alimentaires jouent un rôle important sur votre santé et votre bien-être ?\nPour connaître les effets de l’alimentation\, L’Association de Santé\, d’Éducation et de Prévention sur les Territoires de Lorraine (ASEPT Lorraine) en partenariat avec la MARPA La Hoube\, le Groupe SOS Seniors\, la MSA Lorraine et son échelon local de Sarrebourg-Phaslbourg\, la Commune de Dabo et la Communauté de Communes du Pays de Phaslbourg vous invite à \nUne réunion d’information\, gratuite et ouverte à tous :  \nLe Jeudi 6 octobre 2022 à 14h30\nA la MARPA La Hoube\, 6 rue de Bellevue \n57850 DABO \n  \nSuite à cette réunion\, un cycle de 9 atelier créés par des nutritionnistes vous serons proposés au sein de la MARPA. \nCes ateliers ont pour objectif de vous faire prendre conscience de vos comportements en matière d’alimentation\, et vous faire acquérir de nouveaux réflexes favorables à un bien-être durable\, le tout dans une ambiance conviviale. \n  \nCette réunion d’information et ces ateliers-vous sont proposés dans le cadre de l’action commune nationale de la MSA. \n  \nIls sont gratuits\, financés par la CARSAT Alsace-Moselle\,\, la MSA Lorraine\, le FNPEISA\, \nle Régime Local et la CAMIEG. \n  \nPour plus de renseignements : \nASEPT Lorraine :  contact@aseptlorraine.fr ou 0974 19 16 77
URL:https://www.aseptlorraine.fr/event/ateliers-nutrition-sante-seniors-a-dabo/
LOCATION:A la MARPA La Hoube\, 6 rue de Bellevue 57850 DABO
ATTACH;FMTTYPE=image/jpeg:https://www.aseptlorraine.fr/wp-content/uploads/2022/08/Capture-1.jpg
ORGANIZER;CN="ASEPT Lorraine":MAILTO:contact@aseptlorraine.fr
END:VEVENT
END:VCALENDAR