BEGIN:VCALENDAR
VERSION:2.0
PRODID:-//ASEPT Lorraine - ECPv6.11.2//NONSGML v1.0//EN
CALSCALE:GREGORIAN
METHOD:PUBLISH
X-WR-CALNAME:ASEPT Lorraine
X-ORIGINAL-URL:https://www.aseptlorraine.fr
X-WR-CALDESC:Évènements pour ASEPT Lorraine
REFRESH-INTERVAL;VALUE=DURATION:PT1H
X-Robots-Tag:noindex
X-PUBLISHED-TTL:PT1H
BEGIN:VTIMEZONE
TZID:UTC
BEGIN:STANDARD
TZOFFSETFROM:+0000
TZOFFSETTO:+0000
TZNAME:UTC
DTSTART:20220101T000000
END:STANDARD
END:VTIMEZONE
BEGIN:VEVENT
DTSTART;TZID=UTC:20220905T143000
DTEND;TZID=UTC:20220905T163000
DTSTAMP:20260421T051129
CREATED:20220608T105045Z
LAST-MODIFIED:20220809T130621Z
UID:6360-1662388200-1662395400@www.aseptlorraine.fr
SUMMARY:Réunion d'information "PEPS Eurêka" (ateliers mémoire) - GUNTZVILLER
DESCRIPTION:Seniors\, avec PEPS Eurêka\, votre mémoire est en pleine forme !\nPour votre mémoire\, n’oubliez pas de prendre soin de vous. \n  \nL’Association de Santé\, d’Education et de Prévention sur les Territoires de Lorraine (ASEPT Lorraine) propose un cycle de dix ateliers pour vous aider à comprendre comment fonctionne votre mémoire et la faire travailler. \nCe programme d’éducation à la santé\, développé en partenariat avec la Commune de Guntzviller et l’Association Parents d’Arzviller\, financé par la CARSAT Alsace-Moselle et les Caisses de Retraite\, s’adresse à toutes les personnes de 60 ans et plus. \nUn programme de 10 séances collectives de 10 à 15 personnes\, d’environ 2h30 qui permet de prendre conscience que de nombreux facteurs influencent le fonctionnement de notre cerveau. \nAfin de vous présenter au mieux cette action\, une réunion d’information\, gratuite et ouverte à tous est proposée : \n\nLe lundi 5 septembre 2022 à 14h30\nSalle des fêtes\, rue des écoles\, 57405 GUNTZVILLER\n  \nEn consacrant quelques heures à votre santé\, vous gagnerez une retraite plus sereine. Vous recevrez des conseils simples et clairs pour adopter les bons réflexes chaque jour tout en passant un bon moment. Il s’agira pour vous de préserver votre capital santé et votre mémoire dans une ambiance conviviale. \nContact ASEPT Lorraine :  \nau 09.74.19.16.77 ou par mail : contact@aseptlorraine.fr \nSite internet : www.aseptlorraine.fr \n 
URL:https://www.aseptlorraine.fr/event/reunion-dinformation-peps-eureka-ateliers-memoire-guntzviller/
LOCATION:Salle des fêtes\, rue des écoles\, 57405 GUNTZVILLER
ATTACH;FMTTYPE=image/jpeg:https://www.aseptlorraine.fr/wp-content/uploads/2022/06/Capture-11.jpg
ORGANIZER;CN="ASEPT Lorraine":MAILTO:contact@aseptlorraine.fr
END:VEVENT
BEGIN:VEVENT
DTSTART;TZID=UTC:20220907T100000
DTEND;TZID=UTC:20220907T120000
DTSTAMP:20260421T051129
CREATED:20220608T112548Z
LAST-MODIFIED:20220608T112548Z
UID:6364-1662544800-1662552000@www.aseptlorraine.fr
SUMMARY:Réunion d'information "PEPS Eurêka" (ateliers mémoire) - PONT A MOUSSON
DESCRIPTION:Seniors\, avec PEPS Eurêka\, votre mémoire est en pleine forme !\nPour votre mémoire\, n’oubliez pas de prendre soin de vous. \n  \nL’Association de Santé\, d’Education et de Prévention sur les Territoires de Lorraine (ASEPT Lorraine) propose un cycle de dix ateliers pour vous aider à comprendre comment fonctionne votre mémoire et la faire travailler. \n  \nCe programme d’éducation à la santé\, développé en partenariat avec le CCAS de Pont-à-Mousson\, le Conseil Départemental de Meurthe et Moselle et financé par la Conférence des Financeurs 54\, la CARSAT Nord-Est et les Caisses de Retraite\, s’adresse à toutes les personnes de 60 ans et plus. \n  \nAfin de vous présenter au mieux cette action\, une réunion d’information\, gratuite et ouverte à tous est proposée : \n  \nLe Mercredi 7 septembre 2022 à 10h\nRésidence Philippe de Gueldre\, Place Colombé\n54700 PONT-A-MOUSSON\n\nEn consacrant quelques heures à votre santé\, vous gagnerez une retraite plus sereine. Vous recevrez des conseils simples et clairs pour adopter les bons réflexes chaque jour tout en passant un bon moment. Il s’agira pour vous de préserver votre capital santé et votre mémoire dans une ambiance conviviale. \n  \n  \nContact ASEPT Lorraine :  \nau 09.74.19.16.77 ou par mail : contact@aseptlorraine.fr \nSite internet : www.aseptlorraine.fr \n 
URL:https://www.aseptlorraine.fr/event/reunion-dinformation-peps-eureka-ateliers-memoire-pont-a-mousson/
LOCATION:Résidence Philippe de Gueldre\, Place Colombé 54700 PONT-A-MOUSSON
ATTACH;FMTTYPE=image/jpeg:https://www.aseptlorraine.fr/wp-content/uploads/2022/06/Capture-12.jpg
ORGANIZER;CN="ASEPT Lorraine":MAILTO:contact@aseptlorraine.fr
END:VEVENT
BEGIN:VEVENT
DTSTART;TZID=UTC:20220914T143000
DTEND;TZID=UTC:20220914T163000
DTSTAMP:20260421T051129
CREATED:20220718T184844Z
LAST-MODIFIED:20230206T153943Z
UID:6622-1663165800-1663173000@www.aseptlorraine.fr
SUMMARY:Réunion d'information ateliers PEPS EUREKA (mémoire) à Lunéville (54)
DESCRIPTION:Seniors\, avec PEPS Eurêka\, votre mémoire est en pleine forme !\n\nPour votre mémoire\, n’oubliez pas de prendre soin de vous. \nL’Association de Santé\, d’Education et de Prévention sur les Territoires de Lorraine (ASEPT Lorraine) propose un cycle de dix ateliers pour vous aider à comprendre comment fonctionne votre mémoire et la faire travailler. \nCe programme d’éducation à la santé\, développé en partenariat avec la Commune de Liffol le Grand\, le Conseil Départemental des Vosges\, l’ADMR des Vosges et l’Association de Liffol le Grand\, s’adresse à toutes les personnes de 55 ans et plus. \nUn programme de 10 séances collectives de 10 à 15 personnes\, d’environ 2h30 qui permet de prendre conscience que de nombreux facteurs influencent le fonctionnement de notre cerveau. \nAfin de vous présenter au mieux cette action\, une réunion d’information\, gratuite et ouverte à tous est proposée :  \nLe Mercredi 14 septembre 2022 à 14h00\nA la salle des fêtes\, 88350 LIFFOL LE GRAND\n  \nCette action est financée par la Conférence des Financeurs des Vosges\, la CARSAT Nord Est\, la CAMIEG et la MSA Lorraine.\n  \nEn consacrant quelques heures à votre santé\, vous gagnerez une retraite plus sereine. Vous recevrez des conseils simples et clairs pour adopter les bons réflexes chaque jour tout en passant un bon moment. Il s’agira pour vous de préserver votre capital santé et votre mémoire dans une ambiance conviviale. \n  \n  \nContact ASEPT Lorraine : \nau 09.74.19.16.77 ou par mail : contact@aseptlorraine.fr \nSite internet : www.aseptlorraine.fr \n 
URL:https://www.aseptlorraine.fr/event/6622/
LOCATION:A la salle des fêtes\, 88350 LIFFOL LE GRAND
ATTACH;FMTTYPE=image/jpeg:https://www.aseptlorraine.fr/wp-content/uploads/2022/07/Capture-1.jpg
ORGANIZER;CN="ASEPT Lorraine":MAILTO:contact@aseptlorraine.fr
END:VEVENT
BEGIN:VEVENT
DTSTART;TZID=UTC:20220928T163000
DTEND;TZID=UTC:20220928T180000
DTSTAMP:20260421T051129
CREATED:20220608T104845Z
LAST-MODIFIED:20220608T104845Z
UID:6355-1664382600-1664388000@www.aseptlorraine.fr
SUMMARY:Réunion d'information "PEPS Eurêka" (ateliers mémoire) - FOUG
DESCRIPTION:Seniors\, avec PEPS Eurêka\, votre mémoire est en pleine forme !\nPour votre mémoire\, n’oubliez pas de prendre soin de vous. \n  \nL’Association de Santé\, d’Education et de Prévention sur les Territoires de Lorraine (ASEPT Lorraine) propose un cycle de dix ateliers pour vous aider à comprendre comment fonctionne votre mémoire et la faire travailler. \nCe programme d’éducation à la santé\, développé en partenariat avec le CCAS de Foug le Conseil Départemental 54 et financé par la Conférence des Financeurs de Meurthe et Moselle et les Caisses de Retraite\, s’adresse à toutes les personnes de 60 ans et plus. \nUn programme de 10 séances collectives de 10 à 15 personnes\, d’environ 2h30 qui permet de prendre conscience que de nombreux facteurs influencent le fonctionnement de notre cerveau. \nAfin de vous présenter au mieux cette action\, une réunion d’information\, gratuite et ouverte à tous est proposée : \n  \nLe Mercredi 28 septembre 2022 à 14h30\nSalle Jean Ferrat\, rue Général Leclerc Impasse de la Boisette 54570 FOUG\n  \nEn consacrant quelques heures à votre santé\, vous gagnerez une retraite plus sereine. Vous recevrez des conseils simples et clairs pour adopter les bons réflexes chaque jour tout en passant un bon moment. Il s’agira pour vous de préserver votre capital santé et votre mémoire dans une ambiance conviviale. \n  \n\nContact ASEPT Lorraine :  \nau 09.74.19.16.77 ou par mail : contact@aseptlorraine.fr \nSite internet : www.aseptlorraine.fr \n 
URL:https://www.aseptlorraine.fr/event/reunion-dinformation-peps-eureka-ateliers-memoire-foug/
LOCATION:Salle Jean Ferrat\, rue Général Leclerc Impasse de la Boisette 54570 FOUG
ATTACH;FMTTYPE=image/jpeg:https://www.aseptlorraine.fr/wp-content/uploads/2022/06/Capture-10.jpg
ORGANIZER;CN="ASEPT Lorraine":MAILTO:contact@aseptlorraine.fr
END:VEVENT
END:VCALENDAR