BEGIN:VCALENDAR
VERSION:2.0
PRODID:-//ASEPT Lorraine - ECPv6.11.2//NONSGML v1.0//EN
CALSCALE:GREGORIAN
METHOD:PUBLISH
X-WR-CALNAME:ASEPT Lorraine
X-ORIGINAL-URL:https://www.aseptlorraine.fr
X-WR-CALDESC:Évènements pour ASEPT Lorraine
REFRESH-INTERVAL;VALUE=DURATION:PT1H
X-Robots-Tag:noindex
X-PUBLISHED-TTL:PT1H
BEGIN:VTIMEZONE
TZID:UTC
BEGIN:STANDARD
TZOFFSETFROM:+0000
TZOFFSETTO:+0000
TZNAME:UTC
DTSTART:20230101T000000
END:STANDARD
END:VTIMEZONE
BEGIN:VEVENT
DTSTART;TZID=UTC:20230406T140000
DTEND;TZID=UTC:20230406T160000
DTSTAMP:20260422T024529
CREATED:20230206T153408Z
LAST-MODIFIED:20230206T153709Z
UID:6930-1680789600-1680796800@www.aseptlorraine.fr
SUMMARY:Atelier Bien Vieillir Chez Soi à LIVERDUN (54)
DESCRIPTION:Seniors\, avec les Ateliers « Bien Vieillir chez soi »\, soyez acteurs de votre Habitat !\nChangez quelques habitudes quotidiennes pour une vie plus heureuse et plus\nautonome.\nL’Association de Santé\, d’Education et de Prévention sur les Territoires de Lorraine (ASEPT Lorraine) en partenariat avec le CCAS de Liverdun\, le Conseil Départemental 54 et financé par la conférence des financeurs de Meurthe et Moselle vous propose un cycle de trois ateliers pour vous sensibiliser aux solutions de prévention de la perte d’autonomie.\nCe programme d’éducation à la santé\, développé pour le compte de la MSA Lorraine et ses partenaires\, s’adresse à toutes les personnes de 55 ans et plus.\nUn programme de 3 séances collectives de 8 à 15 personnes\, de 2h00 chacune\, animées par un ergothérapeute et une animatrice en santé environnementale. Il s’agit de prendre soin de soi\, d’acquérir les bons réflexes du quotidien en échangeant dans la convivialité afin de permettre à chacun de vivre à domicile en toute sécurité et le plus longtemps possible.\nEn consacrant quelques heures à votre habitat\, vous gagnerez une retraite plus sereine.\nVous recevrez des conseils simples et clairs pour adopter les bons réflexes chaque jour tout en passant un bon moment.\nIl n’est jamais trop tôt ni trop tard pour s’occuper de son Habitat !\nInscription obligatoire auprès de l’Espace Solidarités au :\n03.83.24.60.60 ou seniors.ccas@ville-liverdun.fr\nCi-dessous le planning des ateliers :  \n  \n\n\n\n\nAteliers \n\nDate\nHeure\n\n\nAtelier 1 \n \nJeudi 6 avril 2023\n\n14h00 – 16h00 \n\n\n\nAtelier 2 \n \nJeudi 13 avril 2023\n\n\nAtelier 3 \n \nMardi 9 mai 2023 \n \n\n\n\n  \n\n\n\n  \n  \n  \n  \n  \n 
URL:https://www.aseptlorraine.fr/event/atelier-bien-vieillir-chez-soi-a-liverdun-54/
LOCATION:Liverdun\, 8 Rue de la Gare\, LIVERUN\, 54460\, France
ATTACH;FMTTYPE=image/jpeg:https://www.aseptlorraine.fr/wp-content/uploads/2023/02/communication-Liverdun_page-0001-1.jpg
ORGANIZER;CN="ASEPT Lorraine":MAILTO:contact@aseptlorraine.fr
END:VEVENT
END:VCALENDAR