BEGIN:VCALENDAR
VERSION:2.0
PRODID:-//ASEPT Lorraine - ECPv6.11.2//NONSGML v1.0//EN
CALSCALE:GREGORIAN
METHOD:PUBLISH
X-ORIGINAL-URL:https://www.aseptlorraine.fr
X-WR-CALDESC:Évènements pour ASEPT Lorraine
REFRESH-INTERVAL;VALUE=DURATION:PT1H
X-Robots-Tag:noindex
X-PUBLISHED-TTL:PT1H
BEGIN:VTIMEZONE
TZID:UTC
BEGIN:STANDARD
TZOFFSETFROM:+0000
TZOFFSETTO:+0000
TZNAME:UTC
DTSTART:20240101T000000
END:STANDARD
END:VTIMEZONE
BEGIN:VEVENT
DTSTART;VALUE=DATE:20240122
DTEND;VALUE=DATE:20240123
DTSTAMP:20260421T051418
CREATED:20231114T090814Z
LAST-MODIFIED:20231214T103930Z
UID:7667-1705881600-1705967999@www.aseptlorraine.fr
SUMMARY:Atelier Nutrition Petite Enfance à DELME
DESCRIPTION:L’Association de Santé\, d’Éducation et de Prévention sur les Territoires de Lorraine (ASEPT)\, en partenariat avec la Communauté de Communes du Saulnois\, vous invitent à 3 séances d’1h30 pour s’informer sur l’alimentation de l’enfant de 0 à 3 ans. \n  \nCes ateliers sont financés par l’Appel à projet “Coup de Pouce Prévention” de la Caisse Centrale de MSA\, la MSA Lorraine et le Régime Local \n  \nOrganise un cycle de trois ateliers « Nutrition Santé Petite Enfance » sur les thèmes suivants : \nAtelier 1 : “Mangez-moi !” – La diversification alimentaire \nAtelier 2 : “Lisez-moi ” – Lecture d’étiquettes \nAtelier 3 : “Trucs et Astuces” – Pour bien manger au quotidien en famille \n  \nContact pour l’inscription : Mme Amandine ZICCARELLI \nResponsable du pôle des affaires sociales et familiales \nMail : amandine.ziccarelli@cc-saulnois.fr \nTel : 03 87 05 80 80 – Mob : 06 80 07 22 44
URL:https://www.aseptlorraine.fr/event/atelier-nutrition-petite-enfance-a-delme/
LOCATION:delme\, DELME\, 57590
ATTACH;FMTTYPE=image/jpeg:https://www.aseptlorraine.fr/wp-content/uploads/2023/11/Affiche-ANSPE-Saulnois-2024.pdf.pdf.jpg
ORGANIZER;CN="ASEPT Lorraine":MAILTO:contact@aseptlorraine.fr
END:VEVENT
END:VCALENDAR